BEGIN:VCALENDAR
VERSION:2.0
PRODID:-//pretix//pretix.eu//
BEGIN:VTIMEZONE
TZID:Europe/Berlin
BEGIN:STANDARD
DTSTART:20001029T040000
RRULE:FREQ=YEARLY;BYDAY=-1SU;BYMONTH=10
TZNAME:CET
TZOFFSETFROM:+0200
TZOFFSETTO:+0100
END:STANDARD
BEGIN:DAYLIGHT
DTSTART:20000326T030000
RRULE:FREQ=YEARLY;BYDAY=-1SU;BYMONTH=3
TZNAME:CEST
TZOFFSETFROM:+0100
TZOFFSETTO:+0200
END:DAYLIGHT
END:VTIMEZONE
BEGIN:VEVENT
UID:pretix-spiegelgruppe-Kino-4101050@event.spiegel.de
DTSTART;TZID=Europe/Berlin:20240325T200000
DTEND;TZID=Europe/Berlin:20240325T210000
DESCRIPTION:Tickets: https://event.spiegel.de/Kino/4101050/\nVeranstalter: 
 SPIEGEL-Verlag Rudolf Augstein GmbH & Co. KG
DTSTAMP:20260419T145406Z
SUMMARY:Kino-Preview "ONE LIFE" - Sichern Sie sich jetzt zwei kostenlose Ka
 rten!
END:VEVENT
END:VCALENDAR
